BEGIN:VCALENDAR
VERSION:2.0
PRODID:-//Konferenz für Urban Transformation Design - ECPv6.15.20//NONSGML v1.0//EN
CALSCALE:GREGORIAN
METHOD:PUBLISH
X-ORIGINAL-URL:https://kfutd.de
X-WR-CALDESC:Veranstaltungen für Konferenz für Urban Transformation Design
REFRESH-INTERVAL;VALUE=DURATION:PT1H
X-Robots-Tag:noindex
X-PUBLISHED-TTL:PT1H
BEGIN:VTIMEZONE
TZID:Europe/Berlin
BEGIN:DAYLIGHT
TZOFFSETFROM:+0100
TZOFFSETTO:+0200
TZNAME:CEST
DTSTART:20240331T010000
END:DAYLIGHT
BEGIN:STANDARD
TZOFFSETFROM:+0200
TZOFFSETTO:+0100
TZNAME:CET
DTSTART:20241027T010000
END:STANDARD
BEGIN:DAYLIGHT
TZOFFSETFROM:+0100
TZOFFSETTO:+0200
TZNAME:CEST
DTSTART:20250330T010000
END:DAYLIGHT
BEGIN:STANDARD
TZOFFSETFROM:+0200
TZOFFSETTO:+0100
TZNAME:CET
DTSTART:20251026T010000
END:STANDARD
BEGIN:DAYLIGHT
TZOFFSETFROM:+0100
TZOFFSETTO:+0200
TZNAME:CEST
DTSTART:20260329T010000
END:DAYLIGHT
BEGIN:STANDARD
TZOFFSETFROM:+0200
TZOFFSETTO:+0100
TZNAME:CET
DTSTART:20261025T010000
END:STANDARD
END:VTIMEZONE
BEGIN:VEVENT
DTSTART;TZID=Europe/Berlin:20250726T100000
DTEND;TZID=Europe/Berlin:20250726T120000
DTSTAMP:20260422T231608
CREATED:20250723T065248Z
LAST-MODIFIED:20250723T065258Z
UID:10000717-1753524000-1753531200@kfutd.de
SUMMARY:Der begehbare Stadtplan kommt vors Rathaus
DESCRIPTION:📍 Ort: Vor dem Rathaus\, Hauptstraße 90\, Offenburg🗓️ Datum: Samstag\, 26. Juli 2025⏰ Zeit: 10:00–12:00 Uhr \n\n\n\nWir bringen unseren begehbaren Stadtplan vors Rathaus und laden Verwaltung\, Gemeinderat und Bürger:innen ein\, direkt vor Ort über die Zukunft unserer Stadt ins Gespräch zu kommen. Kommt vorbei\, beteiligt euch und bringt eure Ideen mit!
URL:https://kfutd.de/event/der-begehbare-stadtplan-kommt-vors-rathaus/
CATEGORIES:Veranstaltungen für Urbane Transformation,Eigene Veranstaltungen
ATTACH;FMTTYPE=image/webp:https://kfutd.de/wp-content/uploads/2025/07/PXL_20250510_134108243zuschnitt.webp
END:VEVENT
END:VCALENDAR