BEGIN:VCALENDAR
VERSION:2.0
PRODID:-//Konferenz für Urban Transformation Design - ECPv6.15.20//NONSGML v1.0//EN
CALSCALE:GREGORIAN
METHOD:PUBLISH
X-ORIGINAL-URL:https://kfutd.de
X-WR-CALDESC:Veranstaltungen für Konferenz für Urban Transformation Design
REFRESH-INTERVAL;VALUE=DURATION:PT1H
X-Robots-Tag:noindex
X-PUBLISHED-TTL:PT1H
BEGIN:VTIMEZONE
TZID:Europe/Berlin
BEGIN:DAYLIGHT
TZOFFSETFROM:+0100
TZOFFSETTO:+0200
TZNAME:CEST
DTSTART:20240331T010000
END:DAYLIGHT
BEGIN:STANDARD
TZOFFSETFROM:+0200
TZOFFSETTO:+0100
TZNAME:CET
DTSTART:20241027T010000
END:STANDARD
BEGIN:DAYLIGHT
TZOFFSETFROM:+0100
TZOFFSETTO:+0200
TZNAME:CEST
DTSTART:20250330T010000
END:DAYLIGHT
BEGIN:STANDARD
TZOFFSETFROM:+0200
TZOFFSETTO:+0100
TZNAME:CET
DTSTART:20251026T010000
END:STANDARD
BEGIN:DAYLIGHT
TZOFFSETFROM:+0100
TZOFFSETTO:+0200
TZNAME:CEST
DTSTART:20260329T010000
END:DAYLIGHT
BEGIN:STANDARD
TZOFFSETFROM:+0200
TZOFFSETTO:+0100
TZNAME:CET
DTSTART:20261025T010000
END:STANDARD
END:VTIMEZONE
BEGIN:VEVENT
DTSTART;TZID=Europe/Berlin:20250919T150000
DTEND;TZID=Europe/Berlin:20250919T180000
DTSTAMP:20260423T101550
CREATED:20250813T171849Z
LAST-MODIFIED:20250813T171857Z
UID:10000734-1758294000-1758304800@kfutd.de
SUMMARY:Spielraum Beats meets Parking Day
DESCRIPTION:Warum wir diesmal einen Parkplatz bespielen statt einen Spielplatz \n\n\n\nAm 19. September ist internationaler Parking Day – ein Aktionstag\, an dem Menschen weltweit zeigen\, wie viel Lebensqualität in dem Raum steckt\, den sonst stehende Autos blockieren. Auch wir sind dieses Jahr dabei: Mit „Spielraum Beats“ ziehen wir auf den Gerichtsplatz in Offenburg\, direkt beim Ritterhaus-Museum. Diesmal wird ein Parkplatz zur Tanzfläche – denn Freiraum ist keine Frage von Zufall\, sondern von Gerechtigkeit. \n\n\n\nUnsere Kinder brauchen Platz – zum Spielen\, zum Tanzen\, zum Wachsen. Doch der öffentliche Raum in unseren Städten ist ungleich verteilt: Autos dominieren. Dabei stehen sie die meiste Zeit einfach nur herum. Mit „Spielraum Beats“ zeigen wir\, was stattdessen möglich ist: Musik\, Bewegung\, Begegnung – mitten in der Stadt. \n\n\n\nDer Parking Day und unser Anliegen passen perfekt zusammen:Beide fordern ein Umdenken in der Stadtplanung. Beide stellen die Frage: Wem gehört der Raum? Und beide zeigen\, wie viel bunter\, lebendiger und menschlicher eine Stadt sein kann\, wenn sie den Menschen gehört – und nicht den Blechkisten. \n\n\n\nWas als Kinderdisco auf dem Spielplatz begann\, wird so zur offenen Bühne des Stadtraums: Wir bringen Beats dorthin\, wo sonst nur Motoren brummen. Und wir laden alle ein – Kinder\, Eltern\, Passant:innen\, Politiker:innen – mit uns zu tanzen und gemeinsam die Stadt zu verändern. \n\n\n\nFreitag\, 19. September 202515 bis 18 Uhram Gerichtsplatz (Parkplatz beim Ritterhaus-Museum) \n\n\n\nBringt Picknick\, Decken\, Sitzgelegenheiten mit\, damit wir es uns auf dem Asphalt gemütlich machen können. \n\n\n\n\nSpielraum Beats! Wenn Kinder tanzen und die Stadt zuhört
URL:https://kfutd.de/event/spielraum-beats-meets-parking-day/
CATEGORIES:Veranstaltungen für Urbane Transformation,Eigene Veranstaltungen
ATTACH;FMTTYPE=image/webp:https://kfutd.de/wp-content/uploads/2025/07/spielraumbeats-parkingday-scaled.webp
END:VEVENT
BEGIN:VEVENT
DTSTART;TZID=Europe/Berlin:20250919T190000
DTEND;TZID=Europe/Berlin:20250919T210000
DTSTAMP:20260423T101550
CREATED:20250908T112354Z
LAST-MODIFIED:20250908T112705Z
UID:10000740-1758308400-1758315600@kfutd.de
SUMMARY:Die Freitagsrunde
DESCRIPTION:Unter diesem Namen bietet die Deutsche Friedensgesellschaft ab Oktober 2024 an jedem zweiten Freitag des Monats einen offenen Gesprächskreis für alle Interessierten an. An jedem Abend soll ein aktuelles Thema aus Kultur\, Politik\, Wirtschaft oder ein regional wichtiges Thema aufgegriffen werden. Referenten werden in der Regel nicht eingeladen\, jedoch wird es immer eine kurze Einführung geben. \n\n\n\nWo findet die Freitagsrunde statt?\n\n\n\nBuntes Haus\, an jedem zweiten Freitag im Monat ab 19 Uhr. Weitere Informationen unter mittelbaden@dfg-vk.de . \n\n\n\nPresseanfragen jederzeit unter dieser Mailadresse oder 0172-7154033
URL:https://kfutd.de/event/die-freitagsrunde-3/
CATEGORIES:Veranstaltungen für Urbane Transformation,Externe Veranstaltungen
ATTACH;FMTTYPE=image/webp:https://kfutd.de/wp-content/uploads/2025/03/150x90cm_taube_1_web.webp
END:VEVENT
END:VCALENDAR