BEGIN:VCALENDAR
VERSION:2.0
PRODID:-//Konferenz für Urban Transformation Design - ECPv6.15.20//NONSGML v1.0//EN
CALSCALE:GREGORIAN
METHOD:PUBLISH
X-ORIGINAL-URL:https://kfutd.de
X-WR-CALDESC:Veranstaltungen für Konferenz für Urban Transformation Design
REFRESH-INTERVAL;VALUE=DURATION:PT1H
X-Robots-Tag:noindex
X-PUBLISHED-TTL:PT1H
BEGIN:VTIMEZONE
TZID:Europe/Berlin
BEGIN:DAYLIGHT
TZOFFSETFROM:+0100
TZOFFSETTO:+0200
TZNAME:CEST
DTSTART:20240331T010000
END:DAYLIGHT
BEGIN:STANDARD
TZOFFSETFROM:+0200
TZOFFSETTO:+0100
TZNAME:CET
DTSTART:20241027T010000
END:STANDARD
BEGIN:DAYLIGHT
TZOFFSETFROM:+0100
TZOFFSETTO:+0200
TZNAME:CEST
DTSTART:20250330T010000
END:DAYLIGHT
BEGIN:STANDARD
TZOFFSETFROM:+0200
TZOFFSETTO:+0100
TZNAME:CET
DTSTART:20251026T010000
END:STANDARD
BEGIN:DAYLIGHT
TZOFFSETFROM:+0100
TZOFFSETTO:+0200
TZNAME:CEST
DTSTART:20260329T010000
END:DAYLIGHT
BEGIN:STANDARD
TZOFFSETFROM:+0200
TZOFFSETTO:+0100
TZNAME:CET
DTSTART:20261025T010000
END:STANDARD
END:VTIMEZONE
BEGIN:VEVENT
DTSTART;TZID=Europe/Berlin:20250925T150000
DTEND;TZID=Europe/Berlin:20250925T170000
DTSTAMP:20260422T230519
CREATED:20250917T114741Z
LAST-MODIFIED:20250922T080259Z
UID:10000863-1758812400-1758819600@kfutd.de
SUMMARY:„Kaffeetafel wie bei Oma“ – Einladung zum Gespräch unter Platanen
DESCRIPTION:Weiße Tischdecken\, Kuchen wie früher bei Oma und eine gute Tasse Kaffee – das ist die Idee unserer Aktion „Kaffeetafel wie bei Oma“. Unter den Platanen beim Kulturforum laden die Omas gegen Rechts Offenburg zu Begegnung und Gespräch ein. \n\n\n\nDie Bücherei\, Musikschule\, das Museum und die Kunstschule sorgen ohnehin für viele Besucher:innen – beste Voraussetzungen\, um ins Gespräch zu kommen. Denn genau das ist unser Ziel: miteinander reden\, zuhören\, Sorgen und Gedanken teilen – und so gemeinsam ein Stück politischer Kultur gestalten. \n\n\n\n\n\n\n\nAblauf\n\n\n\n\nAb 14:30 Uhr beginnen wir mit dem Aufbau.\n\n\n\nVon 15–17 Uhr ist die Kaffeetafel für alle offen.\n\n\n\nEs gibt Kuchen\, Kaffee\, Tee – und hoffentlich viele spannende Gespräche.\n\n\n\nAn den Stühlen hängen Fragen\, die zum Nachdenken und Mitreden anregen.\n\n\n\n\nMitmachen?\n\n\n\nDamit die Tafel lebendig wird\, brauchen wir eure Unterstützung: \n\n\n\n\nKuchenspenden sind herzlich willkommen.\n\n\n\nBringt gerne eine Kanne Kaffee oder heißes Wasser für Tee mit.\n\n\n\nAuch helfende Hände beim Aufbau sind sehr wertvoll.\n\n\n\n\nAusblick\n\n\n\nSchon jetzt ein Hinweis: Am 3. Oktober findet in Offenburg ein Friedensfest statt. Auch dort werden die Omas gegen Rechts mit einem Stand vertreten sein. Mehr dazu am Donnerstag bei der Kaffeetafel. \n\n\n\nKommt vorbei\, bringt Freund:innen mit – und nehmt euch eine Stunde Zeit\, Platz an unserer Tafel zu nehmen. Lasst uns reden\, lachen\, zuhören – so wie früher bei Oma.
URL:https://kfutd.de/event/kaffeetafel-wie-bei-oma-einladung-zum-gespraech-unter-platanen/
CATEGORIES:Veranstaltungen für Urbane Transformation,Externe Veranstaltungen
ATTACH;FMTTYPE=image/webp:https://kfutd.de/wp-content/uploads/2025/09/ChatGPT-Image-17.-Sept.-2025-13_42_16.webp
END:VEVENT
END:VCALENDAR