BEGIN:VCALENDAR
VERSION:2.0
PRODID:-//Konferenz für Urban Transformation Design - ECPv6.15.20//NONSGML v1.0//EN
CALSCALE:GREGORIAN
METHOD:PUBLISH
X-WR-CALNAME:Konferenz für Urban Transformation Design
X-ORIGINAL-URL:https://kfutd.de
X-WR-CALDESC:Veranstaltungen für Konferenz für Urban Transformation Design
REFRESH-INTERVAL;VALUE=DURATION:PT1H
X-Robots-Tag:noindex
X-PUBLISHED-TTL:PT1H
BEGIN:VTIMEZONE
TZID:Europe/Berlin
BEGIN:DAYLIGHT
TZOFFSETFROM:+0100
TZOFFSETTO:+0200
TZNAME:CEST
DTSTART:20240331T010000
END:DAYLIGHT
BEGIN:STANDARD
TZOFFSETFROM:+0200
TZOFFSETTO:+0100
TZNAME:CET
DTSTART:20241027T010000
END:STANDARD
BEGIN:DAYLIGHT
TZOFFSETFROM:+0100
TZOFFSETTO:+0200
TZNAME:CEST
DTSTART:20250330T010000
END:DAYLIGHT
BEGIN:STANDARD
TZOFFSETFROM:+0200
TZOFFSETTO:+0100
TZNAME:CET
DTSTART:20251026T010000
END:STANDARD
BEGIN:DAYLIGHT
TZOFFSETFROM:+0100
TZOFFSETTO:+0200
TZNAME:CEST
DTSTART:20260329T010000
END:DAYLIGHT
BEGIN:STANDARD
TZOFFSETFROM:+0200
TZOFFSETTO:+0100
TZNAME:CET
DTSTART:20261025T010000
END:STANDARD
END:VTIMEZONE
BEGIN:VEVENT
DTSTART;TZID=Europe/Berlin:20251010T160000
DTEND;TZID=Europe/Berlin:20251010T180000
DTSTAMP:20260421T082517
CREATED:20250918T095233Z
LAST-MODIFIED:20250918T095253Z
UID:10000864-1760112000-1760119200@kfutd.de
SUMMARY:Fußverkehrs-Check Begehung
DESCRIPTION:Einladung zur Begehung im Rahmen des Fußverkehrs-Checks \n\n\n\nWie fußgängerfreundlich ist unsere Stadt wirklich?Am 10. Oktober um 16 Uhr lädt die Stadt alle Bürger:innen herzlich ein zur öffentlichen Begehung in der Nordoststadt. Treffpunkt ist an der Erich-Kästner-Realschule\, Prinz-Eugen-Straße 76 (bei ganz schlechtem Wetter: Ersatztermin 17. Oktober). \n\n\n\nGemeinsam können wir vor Ort anschauen\, wo es für Fußgänger:innen gut läuft – und wo noch dringend nachgebessert werden muss. Jede Stimme zählt\, denn eure Eindrücke und Erfahrungen fließen direkt in den Fußverkehrs-Check 2025 ein. \n\n\n\nKommt vorbei\, bringt eure Sicht der Dinge ein und gestaltet mit\, wie sicher und lebenswert unsere Wege in Offenburg werden!
URL:https://kfutd.de/event/fussverkehrs-check-begehung/
CATEGORIES:Veranstaltungen für Urbane Transformation,Externe Veranstaltungen
ATTACH;FMTTYPE=image/webp:https://kfutd.de/wp-content/uploads/2025/09/18092025.webp
END:VEVENT
BEGIN:VEVENT
DTSTART;TZID=Europe/Berlin:20251010T190000
DTEND;TZID=Europe/Berlin:20251010T210000
DTSTAMP:20260421T082517
CREATED:20251003T071738Z
LAST-MODIFIED:20251003T071819Z
UID:10000741-1760122800-1760130000@kfutd.de
SUMMARY:Die Freitagsrunde
DESCRIPTION:„Drohnen über Dänemark\, russische Jets über dem Baltikum und die Bundeswehr richtet sich in Litauen ein. Beginnt so der Krieg?” ist das Thema am 10. Oktober um 19 Uhr. \n\n\n\nStadtteilzentrum „Buntes Haus“ in der Moltkestraße\, Ecke Prinz-Eugen-Straße in Offenburg. Weitere Informationen unter mittelbaden@dfg-vk.de . \n\n\n\nUnter diesem Namen bietet die Deutsche Friedensgesellschaft ab Oktober 2024 an jedem zweiten Freitag des Monats einen offenen Gesprächskreis für alle Interessierten an. An jedem Abend soll ein aktuelles Thema aus Kultur\, Politik\, Wirtschaft oder ein regional wichtiges Thema aufgegriffen werden. Referenten werden in der Regel nicht eingeladen\, jedoch wird es immer eine kurze Einführung geben. \n\n\n\nWo findet die Freitagsrunde statt?\n\n\n\nBuntes Haus\, an jedem zweiten Freitag im Monat ab 19 Uhr. Weitere Informationen unter mittelbaden@dfg-vk.de . \n\n\n\nPresseanfragen jederzeit unter dieser Mailadresse oder 0172-7154033
URL:https://kfutd.de/event/die-freitagsrunde-5/
CATEGORIES:Veranstaltungen für Urbane Transformation,Externe Veranstaltungen
ATTACH;FMTTYPE=image/webp:https://kfutd.de/wp-content/uploads/2025/03/150x90cm_taube_1_web.webp
END:VEVENT
END:VCALENDAR