BEGIN:VCALENDAR
VERSION:2.0
PRODID:-//Konferenz für Urban Transformation Design - ECPv6.15.20//NONSGML v1.0//EN
CALSCALE:GREGORIAN
METHOD:PUBLISH
X-ORIGINAL-URL:https://kfutd.de
X-WR-CALDESC:Veranstaltungen für Konferenz für Urban Transformation Design
REFRESH-INTERVAL;VALUE=DURATION:PT1H
X-Robots-Tag:noindex
X-PUBLISHED-TTL:PT1H
BEGIN:VTIMEZONE
TZID:Europe/Berlin
BEGIN:DAYLIGHT
TZOFFSETFROM:+0100
TZOFFSETTO:+0200
TZNAME:CEST
DTSTART:20240331T010000
END:DAYLIGHT
BEGIN:STANDARD
TZOFFSETFROM:+0200
TZOFFSETTO:+0100
TZNAME:CET
DTSTART:20241027T010000
END:STANDARD
BEGIN:DAYLIGHT
TZOFFSETFROM:+0100
TZOFFSETTO:+0200
TZNAME:CEST
DTSTART:20250330T010000
END:DAYLIGHT
BEGIN:STANDARD
TZOFFSETFROM:+0200
TZOFFSETTO:+0100
TZNAME:CET
DTSTART:20251026T010000
END:STANDARD
BEGIN:DAYLIGHT
TZOFFSETFROM:+0100
TZOFFSETTO:+0200
TZNAME:CEST
DTSTART:20260329T010000
END:DAYLIGHT
BEGIN:STANDARD
TZOFFSETFROM:+0200
TZOFFSETTO:+0100
TZNAME:CET
DTSTART:20261025T010000
END:STANDARD
END:VTIMEZONE
BEGIN:VEVENT
DTSTART;TZID=Europe/Berlin:20251024T193000
DTEND;TZID=Europe/Berlin:20251024T213000
DTSTAMP:20260421T051605
CREATED:20251020T102210Z
LAST-MODIFIED:20251020T102230Z
UID:10000869-1761334200-1761341400@kfutd.de
SUMMARY:Europa im Krieg – Zwischen Krieg & Gewissen
DESCRIPTION:📍 Gemeindehaus der Stadtkirche\, Poststraße 16\, Offenburg \n\n\n\nWie verändert Russlands Krieg gegen die Ukraine Europa – und unser Gewissen?Drei russische Menschenrechtsaktivist:innen berichten von ihrem Widerstand gegen den Krieg\, von Kriegsdienstverweigerung und der Suche nach Wegen des Friedens. \n\n\n\nZu Gast: \n\n\n\n\nKatya Dikovskaya\, Juristin\, Direktorin der Bewegung für Kriegsdienstverweigerung Russland\n\n\n\nArtem Klyga\, Jurist und Fachberater für Osteuropa\, Connection e.V.\n\n\n\nSaša Belik\, ehemaliger Geschäftsführer der Bewegung für Kriegsdienstverweigerung Russland\n\n\n\n\nEin Abend für alle\, die verstehen wollen\, wie Krieg Menschen verändert – und warum Gewissen und Mut die stärksten Waffen gegen Gewalt sind. \n\n\n\n🕊 Veranstaltet von DFG-VK\, Ev. Erwachsenenbildung Offenburg
URL:https://kfutd.de/event/europa-im-krieg-zwischen-krieg-gewissen/
CATEGORIES:Veranstaltungen für Urbane Transformation,Externe Veranstaltungen
ATTACH;FMTTYPE=image/png:https://kfutd.de/wp-content/uploads/2025/10/Bildschirmfoto-2025-10-19-um-12.56.51.png
END:VEVENT
END:VCALENDAR