BEGIN:VCALENDAR
VERSION:2.0
PRODID:-//Konferenz für Urban Transformation Design - ECPv6.15.20//NONSGML v1.0//EN
CALSCALE:GREGORIAN
METHOD:PUBLISH
X-WR-CALNAME:Konferenz für Urban Transformation Design
X-ORIGINAL-URL:https://kfutd.de
X-WR-CALDESC:Veranstaltungen für Konferenz für Urban Transformation Design
REFRESH-INTERVAL;VALUE=DURATION:PT1H
X-Robots-Tag:noindex
X-PUBLISHED-TTL:PT1H
BEGIN:VTIMEZONE
TZID:Europe/Berlin
BEGIN:DAYLIGHT
TZOFFSETFROM:+0100
TZOFFSETTO:+0200
TZNAME:CEST
DTSTART:20250330T010000
END:DAYLIGHT
BEGIN:STANDARD
TZOFFSETFROM:+0200
TZOFFSETTO:+0100
TZNAME:CET
DTSTART:20251026T010000
END:STANDARD
BEGIN:DAYLIGHT
TZOFFSETFROM:+0100
TZOFFSETTO:+0200
TZNAME:CEST
DTSTART:20260329T010000
END:DAYLIGHT
BEGIN:STANDARD
TZOFFSETFROM:+0200
TZOFFSETTO:+0100
TZNAME:CET
DTSTART:20261025T010000
END:STANDARD
BEGIN:DAYLIGHT
TZOFFSETFROM:+0100
TZOFFSETTO:+0200
TZNAME:CEST
DTSTART:20270328T010000
END:DAYLIGHT
BEGIN:STANDARD
TZOFFSETFROM:+0200
TZOFFSETTO:+0100
TZNAME:CET
DTSTART:20271031T010000
END:STANDARD
END:VTIMEZONE
BEGIN:VEVENT
DTSTART;TZID=Europe/Berlin:20260302T180000
DTEND;TZID=Europe/Berlin:20260302T220000
DTSTAMP:20260420T182725
CREATED:20260119T191707Z
LAST-MODIFIED:20260302T080500Z
UID:10000946-1772474400-1772488800@kfutd.de
SUMMARY:Bürgerentscheid - Entscheidung am Wahltag
DESCRIPTION:Am 8. März um 18 Uhr schließen die Wahllokale für die Landtagswahl und somit auch für den Bürgerentscheid um den Flugplatz in Offenburg. Dann werden wir wissen\, für welchen Weg Offenburg sich entschieden hat. \n\n\n\n\nWahlparty zum Bürgerentscheid – Wir schauen zusammen auf das Ergebnis
URL:https://kfutd.de/event/buergerentscheid-wahltag/
CATEGORIES:Veranstaltungen für Urbane Transformation,Externe Veranstaltungen
ATTACH;FMTTYPE=image/jpeg:https://kfutd.de/wp-content/uploads/2025/12/nein2-scaled.jpg
END:VEVENT
BEGIN:VEVENT
DTSTART;TZID=Europe/Berlin:20260303T170000
DTEND;TZID=Europe/Berlin:20260303T190000
DTSTAMP:20260420T182725
CREATED:20251222T150319Z
LAST-MODIFIED:20251222T150515Z
UID:10000427-1772557200-1772564400@kfutd.de
SUMMARY:Politik im Hinterzimmer
DESCRIPTION:Du machst dir Gedanken um den Wandel in unserer Stadt? Du suchst Menschen zum Gespräch darüber? Wir treffen uns derzeit (zumeist) Dienstags im Hinterzimmer für einen gemeinsamen Austausch\, was uns in der Entwicklung unserer Stadt bewegt. Mal geht es um Bäume (so haben wir uns gefunden)\, mal ums Klima\, Soziales\, Mobilität\, Gesellschaft\, Gerechtigkeit und viele andere Themen. \n\n\n\nDu bist uns mit deinen Ideen\, Gedanken und Wünschen willkommen. Bring dich ein\, der Abend ist öffentlich und wir sind gespannt\, wer kommt und welche Anliegen auf den Tisch kommen. \n\n\n\nMal sind wir nur zu dritt\, mal sind wir zu zehnt. Das lässt sich nie so genau vorhersehen. Wir tauschen uns aus\, sehen\, was jede:r mitbringt. Oft sind es Themen der KfUTD (Konferenz für Urban Transformation Design). Es trifft sich ebenfalls regelmässig die Ortsgruppe Offenburg des FUSS e.V. und wir arbeiten an einer Ortsgruppe des VCD. \n\n\n\nWir treffen uns im Hinterzimmer des Scoutladen / Jurtenland in der Weingartenstraße 33. Oder bei schönen Wetter dahinter im Garten. Wer mag bringt etwas Fingerfood oder etwas zum Trinken mit. \n\n\n\nWir treffen uns regelmässig gegen 17h bis etwa 19 Uhr. \n\n\n\nAuf unserer Veranstaltungsseite informieren wir\, falls ein Termin ausnahmsweise einmal nicht stattfinden kann oder verschoben wird. Dort nennen wir auch Themen\, falls diese für die kommenden Termins schon festgelegt sind.
URL:https://kfutd.de/event/politik-im-hinterzimmer-6/2026-03-03/
LOCATION:Weingartenstraße 33\, Weingartenstraße 33\, Offenburg\, 77654\, Germany
CATEGORIES:Veranstaltungen für Urbane Transformation,Eigene Veranstaltungen,Politik im Hinterzimmer
ATTACH;FMTTYPE=image/png:https://kfutd.de/wp-content/uploads/2025/02/ChatGPT-Image-22.-Dez.-2025-16_02_25.png
END:VEVENT
BEGIN:VEVENT
DTSTART;TZID=Europe/Berlin:20260303T190000
DTEND;TZID=Europe/Berlin:20260303T210000
DTSTAMP:20260420T182725
CREATED:20260211T123142Z
LAST-MODIFIED:20260211T123158Z
UID:10000954-1772564400-1772571600@kfutd.de
SUMMARY:Großes Gewerbegebiet oder grüne Wiesen? – Flächenkonkurrenz in Offenburg
DESCRIPTION:Fläche ist endlich – und umkämpft. In Offenburg stellt sich aktuell ganz konkret die Frage:Wie viel Raum brauchen wir für Gewerbe\, Verkehr und Wachstum – und wie viel für Natur\, Klima\, Landwirtschaft und Lebensqualität? \n\n\n\nDer Vortrag beleuchtet die zunehmende Flächenkonkurrenz am Beispiel des Offenburger Flugplatzes und ordnet die Debatte ein:Welche Interessen stehen sich gegenüber?Welche Folgen hat weitere Versiegelung für Klima\, Biodiversität und Stadtentwicklung?Und welche Alternativen gibt es? \n\n\n\nIm Anschluss besteht Gelegenheit zum Austausch und zur Diskussion. \n\n\n\n📅 Dienstag\, 3. März 2026🕖 19:00 Uhr📍 Evangelische Erwachsenenbildung Ortenau\, Poststraße 16\, Offenburg \n\n\n\nEine Veranstaltung von BUND\, NABU und der Evangelischen Erwachsenenbildung Ortenau.
URL:https://kfutd.de/event/grosses-gewerbegebiet-oder-gruene-wiesen-flaechenkonkurrenz-in-offenburg/
LOCATION:Gemeindehaus\, Poststraße 16\, Offenburg\, 77654\, Germany
CATEGORIES:Externe Veranstaltungen
ATTACH;FMTTYPE=image/jpeg:https://kfutd.de/wp-content/uploads/2026/02/Plakat-Vortrag-Flaechenkonkurrenz-scaled.jpg
END:VEVENT
BEGIN:VEVENT
DTSTART;TZID=Europe/Berlin:20260310T170000
DTEND;TZID=Europe/Berlin:20260310T190000
DTSTAMP:20260420T182725
CREATED:20251222T150319Z
LAST-MODIFIED:20251222T150515Z
UID:10000428-1773162000-1773169200@kfutd.de
SUMMARY:Politik im Hinterzimmer
DESCRIPTION:Du machst dir Gedanken um den Wandel in unserer Stadt? Du suchst Menschen zum Gespräch darüber? Wir treffen uns derzeit (zumeist) Dienstags im Hinterzimmer für einen gemeinsamen Austausch\, was uns in der Entwicklung unserer Stadt bewegt. Mal geht es um Bäume (so haben wir uns gefunden)\, mal ums Klima\, Soziales\, Mobilität\, Gesellschaft\, Gerechtigkeit und viele andere Themen. \n\n\n\nDu bist uns mit deinen Ideen\, Gedanken und Wünschen willkommen. Bring dich ein\, der Abend ist öffentlich und wir sind gespannt\, wer kommt und welche Anliegen auf den Tisch kommen. \n\n\n\nMal sind wir nur zu dritt\, mal sind wir zu zehnt. Das lässt sich nie so genau vorhersehen. Wir tauschen uns aus\, sehen\, was jede:r mitbringt. Oft sind es Themen der KfUTD (Konferenz für Urban Transformation Design). Es trifft sich ebenfalls regelmässig die Ortsgruppe Offenburg des FUSS e.V. und wir arbeiten an einer Ortsgruppe des VCD. \n\n\n\nWir treffen uns im Hinterzimmer des Scoutladen / Jurtenland in der Weingartenstraße 33. Oder bei schönen Wetter dahinter im Garten. Wer mag bringt etwas Fingerfood oder etwas zum Trinken mit. \n\n\n\nWir treffen uns regelmässig gegen 17h bis etwa 19 Uhr. \n\n\n\nAuf unserer Veranstaltungsseite informieren wir\, falls ein Termin ausnahmsweise einmal nicht stattfinden kann oder verschoben wird. Dort nennen wir auch Themen\, falls diese für die kommenden Termins schon festgelegt sind.
URL:https://kfutd.de/event/politik-im-hinterzimmer-6/2026-03-10/
LOCATION:Weingartenstraße 33\, Weingartenstraße 33\, Offenburg\, 77654\, Germany
CATEGORIES:Veranstaltungen für Urbane Transformation,Eigene Veranstaltungen,Politik im Hinterzimmer
ATTACH;FMTTYPE=image/png:https://kfutd.de/wp-content/uploads/2025/02/ChatGPT-Image-22.-Dez.-2025-16_02_25.png
END:VEVENT
BEGIN:VEVENT
DTSTART;TZID=Europe/Berlin:20260313T190000
DTEND;TZID=Europe/Berlin:20260313T210000
DTSTAMP:20260420T182725
CREATED:20250801T112354Z
LAST-MODIFIED:20260401T075759Z
UID:10000804-1773428400-1773435600@kfutd.de
SUMMARY:Die Freitagsrunde
DESCRIPTION:Unter diesem Namen bietet die Deutsche Friedensgesellschaft ab Oktober 2024 an jedem zweiten Freitag des Monats einen offenen Gesprächskreis für alle Interessierten an. An jedem Abend soll ein aktuelles Thema aus Kultur\, Politik\, Wirtschaft oder ein regional wichtiges Thema aufgegriffen werden. Referenten werden in der Regel nicht eingeladen\, jedoch wird es immer eine kurze Einführung geben. \n\n\n\nWo findet die Freitagsrunde statt?\n\n\n\nBuntes Haus\, an jedem zweiten Freitag im Monat ab 19 Uhr. Weitere Informationen unter mittelbaden@dfg-vk.de . \n\n\n\nPresseanfragen jederzeit unter dieser Mailadresse oder 0172-7154033
URL:https://kfutd.de/event/die-freitagsrunde-4-2/2026-03-13/
CATEGORIES:Veranstaltungen für Urbane Transformation,Externe Veranstaltungen
ATTACH;FMTTYPE=image/webp:https://kfutd.de/wp-content/uploads/2025/03/150x90cm_taube_1_web.webp
END:VEVENT
BEGIN:VEVENT
DTSTART;TZID=Europe/Berlin:20260315T120000
DTEND;TZID=Europe/Berlin:20260315T140000
DTSTAMP:20260420T182725
CREATED:20260310T100515Z
LAST-MODIFIED:20260310T100533Z
UID:10000955-1773576000-1773583200@kfutd.de
SUMMARY:Flohmarkt - Gemeinsam Weitergeben
DESCRIPTION:Einladung zum Flohmarkt an der Waldorfschule Offenburg \n\n\n\nAm 15. März 2026 von 12 bis 14 Uhr lädt die Waldorfschule Offenburg herzlich zum Flohmarkt unter dem Motto „Gemeinsam weitergeben“ ein. \n\n\n\nHier können gut erhaltene Kleidung\, Spielzeug und viele schöne Dinge aus zweiter Hand entdeckt werden. Der Flohmarkt ist eine wunderbare Gelegenheit\, nachhaltig einzukaufen\, Schätze zu finden und gleichzeitig anderen Dingen ein neues Zuhause zu geben. \n\n\n\nFür eine gemütliche Atmosphäre ist ebenfalls gesorgt:☕ Kaffee & Kuchen🍽 Essen & Getränke🎨 Kinderschminken für die kleinen Gäste \n\n\n\nKommt vorbei\, stöbert\, genießt den Nachmittag und erlebt einen lebendigen Treffpunkt für Familien und Nachbarschaft. \n\n\n\nWaldorfschule Offenburg15.03.2026 | 12–14 Uhr \n\n\n\nWir freuen uns auf euch! 🌿
URL:https://kfutd.de/event/flohmarkt-gemeinsam-weitergeben/
CATEGORIES:Externe Veranstaltungen
ATTACH;FMTTYPE=image/jpeg:https://kfutd.de/wp-content/uploads/2026/03/IMG-20260213-WA0000.jpg
END:VEVENT
BEGIN:VEVENT
DTSTART;TZID=Europe/Berlin:20260317T170000
DTEND;TZID=Europe/Berlin:20260317T190000
DTSTAMP:20260420T182725
CREATED:20251222T150319Z
LAST-MODIFIED:20251222T150515Z
UID:10000429-1773766800-1773774000@kfutd.de
SUMMARY:Politik im Hinterzimmer
DESCRIPTION:Du machst dir Gedanken um den Wandel in unserer Stadt? Du suchst Menschen zum Gespräch darüber? Wir treffen uns derzeit (zumeist) Dienstags im Hinterzimmer für einen gemeinsamen Austausch\, was uns in der Entwicklung unserer Stadt bewegt. Mal geht es um Bäume (so haben wir uns gefunden)\, mal ums Klima\, Soziales\, Mobilität\, Gesellschaft\, Gerechtigkeit und viele andere Themen. \n\n\n\nDu bist uns mit deinen Ideen\, Gedanken und Wünschen willkommen. Bring dich ein\, der Abend ist öffentlich und wir sind gespannt\, wer kommt und welche Anliegen auf den Tisch kommen. \n\n\n\nMal sind wir nur zu dritt\, mal sind wir zu zehnt. Das lässt sich nie so genau vorhersehen. Wir tauschen uns aus\, sehen\, was jede:r mitbringt. Oft sind es Themen der KfUTD (Konferenz für Urban Transformation Design). Es trifft sich ebenfalls regelmässig die Ortsgruppe Offenburg des FUSS e.V. und wir arbeiten an einer Ortsgruppe des VCD. \n\n\n\nWir treffen uns im Hinterzimmer des Scoutladen / Jurtenland in der Weingartenstraße 33. Oder bei schönen Wetter dahinter im Garten. Wer mag bringt etwas Fingerfood oder etwas zum Trinken mit. \n\n\n\nWir treffen uns regelmässig gegen 17h bis etwa 19 Uhr. \n\n\n\nAuf unserer Veranstaltungsseite informieren wir\, falls ein Termin ausnahmsweise einmal nicht stattfinden kann oder verschoben wird. Dort nennen wir auch Themen\, falls diese für die kommenden Termins schon festgelegt sind.
URL:https://kfutd.de/event/politik-im-hinterzimmer-6/2026-03-17/
LOCATION:Weingartenstraße 33\, Weingartenstraße 33\, Offenburg\, 77654\, Germany
CATEGORIES:Veranstaltungen für Urbane Transformation,Eigene Veranstaltungen,Politik im Hinterzimmer
ATTACH;FMTTYPE=image/png:https://kfutd.de/wp-content/uploads/2025/02/ChatGPT-Image-22.-Dez.-2025-16_02_25.png
END:VEVENT
BEGIN:VEVENT
DTSTART;TZID=Europe/Berlin:20260324T170000
DTEND;TZID=Europe/Berlin:20260324T190000
DTSTAMP:20260420T182725
CREATED:20251222T150319Z
LAST-MODIFIED:20251222T150515Z
UID:10000430-1774371600-1774378800@kfutd.de
SUMMARY:Politik im Hinterzimmer
DESCRIPTION:Du machst dir Gedanken um den Wandel in unserer Stadt? Du suchst Menschen zum Gespräch darüber? Wir treffen uns derzeit (zumeist) Dienstags im Hinterzimmer für einen gemeinsamen Austausch\, was uns in der Entwicklung unserer Stadt bewegt. Mal geht es um Bäume (so haben wir uns gefunden)\, mal ums Klima\, Soziales\, Mobilität\, Gesellschaft\, Gerechtigkeit und viele andere Themen. \n\n\n\nDu bist uns mit deinen Ideen\, Gedanken und Wünschen willkommen. Bring dich ein\, der Abend ist öffentlich und wir sind gespannt\, wer kommt und welche Anliegen auf den Tisch kommen. \n\n\n\nMal sind wir nur zu dritt\, mal sind wir zu zehnt. Das lässt sich nie so genau vorhersehen. Wir tauschen uns aus\, sehen\, was jede:r mitbringt. Oft sind es Themen der KfUTD (Konferenz für Urban Transformation Design). Es trifft sich ebenfalls regelmässig die Ortsgruppe Offenburg des FUSS e.V. und wir arbeiten an einer Ortsgruppe des VCD. \n\n\n\nWir treffen uns im Hinterzimmer des Scoutladen / Jurtenland in der Weingartenstraße 33. Oder bei schönen Wetter dahinter im Garten. Wer mag bringt etwas Fingerfood oder etwas zum Trinken mit. \n\n\n\nWir treffen uns regelmässig gegen 17h bis etwa 19 Uhr. \n\n\n\nAuf unserer Veranstaltungsseite informieren wir\, falls ein Termin ausnahmsweise einmal nicht stattfinden kann oder verschoben wird. Dort nennen wir auch Themen\, falls diese für die kommenden Termins schon festgelegt sind.
URL:https://kfutd.de/event/politik-im-hinterzimmer-6/2026-03-24/
LOCATION:Weingartenstraße 33\, Weingartenstraße 33\, Offenburg\, 77654\, Germany
CATEGORIES:Veranstaltungen für Urbane Transformation,Eigene Veranstaltungen,Politik im Hinterzimmer
ATTACH;FMTTYPE=image/png:https://kfutd.de/wp-content/uploads/2025/02/ChatGPT-Image-22.-Dez.-2025-16_02_25.png
END:VEVENT
BEGIN:VEVENT
DTSTART;TZID=Europe/Berlin:20260327T180000
DTEND;TZID=Europe/Berlin:20260327T190000
DTSTAMP:20260420T182725
CREATED:20241125T194817Z
LAST-MODIFIED:20241125T195747Z
UID:10000057-1774634400-1774638000@kfutd.de
SUMMARY:Critical Mass
DESCRIPTION:Auf aufs Rad und mitradeln durch unser schönes Offenburg bei der Critical Mass jeden letzten Freitag im Monat.Treffpunkt: 18:00Uhr beim Historischen Rathaus in Offenburg \n\n\n\nZusammen sind wir für eine sicherere Fahrradinfrastruktur\, in der Radfahrende nicht einfach übersehen werden unterwegs. Eine Einkehr zum Austausch rund ums Rad danach ist geplant\, und zwar im EINmachglas am Marktplatz.
URL:https://kfutd.de/event/critical-mass-november-2024/2026-03-27/
CATEGORIES:Veranstaltungen für Urbane Transformation,Externe Veranstaltungen
ATTACH;FMTTYPE=image/webp:https://kfutd.de/wp-content/uploads/2024/11/jufafe-fahrraddemo-in-hamburg.webp
END:VEVENT
BEGIN:VEVENT
DTSTART;TZID=Europe/Berlin:20260331T170000
DTEND;TZID=Europe/Berlin:20260331T190000
DTSTAMP:20260420T182725
CREATED:20251222T150319Z
LAST-MODIFIED:20251222T150515Z
UID:10000431-1774976400-1774983600@kfutd.de
SUMMARY:Politik im Hinterzimmer
DESCRIPTION:Du machst dir Gedanken um den Wandel in unserer Stadt? Du suchst Menschen zum Gespräch darüber? Wir treffen uns derzeit (zumeist) Dienstags im Hinterzimmer für einen gemeinsamen Austausch\, was uns in der Entwicklung unserer Stadt bewegt. Mal geht es um Bäume (so haben wir uns gefunden)\, mal ums Klima\, Soziales\, Mobilität\, Gesellschaft\, Gerechtigkeit und viele andere Themen. \n\n\n\nDu bist uns mit deinen Ideen\, Gedanken und Wünschen willkommen. Bring dich ein\, der Abend ist öffentlich und wir sind gespannt\, wer kommt und welche Anliegen auf den Tisch kommen. \n\n\n\nMal sind wir nur zu dritt\, mal sind wir zu zehnt. Das lässt sich nie so genau vorhersehen. Wir tauschen uns aus\, sehen\, was jede:r mitbringt. Oft sind es Themen der KfUTD (Konferenz für Urban Transformation Design). Es trifft sich ebenfalls regelmässig die Ortsgruppe Offenburg des FUSS e.V. und wir arbeiten an einer Ortsgruppe des VCD. \n\n\n\nWir treffen uns im Hinterzimmer des Scoutladen / Jurtenland in der Weingartenstraße 33. Oder bei schönen Wetter dahinter im Garten. Wer mag bringt etwas Fingerfood oder etwas zum Trinken mit. \n\n\n\nWir treffen uns regelmässig gegen 17h bis etwa 19 Uhr. \n\n\n\nAuf unserer Veranstaltungsseite informieren wir\, falls ein Termin ausnahmsweise einmal nicht stattfinden kann oder verschoben wird. Dort nennen wir auch Themen\, falls diese für die kommenden Termins schon festgelegt sind.
URL:https://kfutd.de/event/politik-im-hinterzimmer-6/2026-03-31/
LOCATION:Weingartenstraße 33\, Weingartenstraße 33\, Offenburg\, 77654\, Germany
CATEGORIES:Veranstaltungen für Urbane Transformation,Eigene Veranstaltungen,Politik im Hinterzimmer
ATTACH;FMTTYPE=image/png:https://kfutd.de/wp-content/uploads/2025/02/ChatGPT-Image-22.-Dez.-2025-16_02_25.png
END:VEVENT
END:VCALENDAR