BEGIN:VCALENDAR
VERSION:2.0
PRODID:-//Konferenz für Urban Transformation Design - ECPv6.15.20//NONSGML v1.0//EN
CALSCALE:GREGORIAN
METHOD:PUBLISH
X-WR-CALNAME:Konferenz für Urban Transformation Design
X-ORIGINAL-URL:https://kfutd.de
X-WR-CALDESC:Veranstaltungen für Konferenz für Urban Transformation Design
REFRESH-INTERVAL;VALUE=DURATION:PT1H
X-Robots-Tag:noindex
X-PUBLISHED-TTL:PT1H
BEGIN:VTIMEZONE
TZID:Europe/Berlin
BEGIN:DAYLIGHT
TZOFFSETFROM:+0100
TZOFFSETTO:+0200
TZNAME:CEST
DTSTART:20240331T010000
END:DAYLIGHT
BEGIN:STANDARD
TZOFFSETFROM:+0200
TZOFFSETTO:+0100
TZNAME:CET
DTSTART:20241027T010000
END:STANDARD
BEGIN:DAYLIGHT
TZOFFSETFROM:+0100
TZOFFSETTO:+0200
TZNAME:CEST
DTSTART:20250330T010000
END:DAYLIGHT
BEGIN:STANDARD
TZOFFSETFROM:+0200
TZOFFSETTO:+0100
TZNAME:CET
DTSTART:20251026T010000
END:STANDARD
BEGIN:DAYLIGHT
TZOFFSETFROM:+0100
TZOFFSETTO:+0200
TZNAME:CEST
DTSTART:20260329T010000
END:DAYLIGHT
BEGIN:STANDARD
TZOFFSETFROM:+0200
TZOFFSETTO:+0100
TZNAME:CET
DTSTART:20261025T010000
END:STANDARD
END:VTIMEZONE
BEGIN:VEVENT
DTSTART;TZID=Europe/Berlin:20250715T170000
DTEND;TZID=Europe/Berlin:20250715T190000
DTSTAMP:20260422T213318
CREATED:20250206T154032Z
LAST-MODIFIED:20251222T131959Z
UID:10000394-1752598800-1752606000@kfutd.de
SUMMARY:Politik im Hinterzimmer
DESCRIPTION:Du machst dir Gedanken um den Wandel in unserer Stadt? Du suchst Menschen zum Gespräch darüber? Wir treffen uns derzeit (zumeist) Dienstags im Hinterzimmer für einen gemeinsamen Austausch\, was uns in der Entwicklung unserer Stadt bewegt. Mal geht es um Bäume (so haben wir uns gefunden)\, mal ums Klima\, Soziales\, Mobilität\, Gesellschaft\, Gerechtigkeit und viele andere Themen. \n\n\n\nDu bist uns mit deinen Ideen\, Gedanken und Wünschen willkommen. Bring dich ein\, der Abend ist öffentlich und wir sind gespannt\, wer kommt und welche Anliegen auf den Tisch kommen. \n\n\n\nMal sind wir nur zu dritt\, mal sind wir zu zehnt. Das lässt sich nie so genau vorhersehen. Wir tauschen uns aus\, sehen\, was jede:r mitbringt. Oft sind es Themen der KfUTD (Konferenz für Urban Transformation Design). Es trifft sich ebenfalls regelmässig die Ortsgruppe Offenburg des FUSS e.V. und wir arbeiten an einer Ortsgruppe des VCD. \n\n\n\nWir treffen uns im Hinterzimmer des Scoutladen / Jurtenland in der Weingartenstraße 33. Oder bei schönen Wetter dahinter im Garten. Wer mag bringt etwas Fingerfood oder etwas zum Trinken mit. \n\n\n\nWir treffen uns regelmässig gegen 17h bis etwa 19 Uhr. \n\n\n\nAuf unserer Veranstaltungsseite informieren wir\, falls ein Termin ausnahmsweise einmal nicht stattfinden kann oder verschoben wird. Dort nennen wir auch Themen\, falls diese für die kommenden Termins schon festgelegt sind.
URL:https://kfutd.de/event/politik-im-hinterzimmer-3/2025-07-15/
LOCATION:Weingartenstraße 33\, Weingartenstraße 33\, Offenburg\, 77654\, Germany
CATEGORIES:Veranstaltungen für Urbane Transformation,Eigene Veranstaltungen,Politik im Hinterzimmer
ATTACH;FMTTYPE=image/webp:https://kfutd.de/wp-content/uploads/2025/01/scoutladen_politics_in_the_back_room_3_males_and_3_females_suns_cee4ccc0-58db-427f-958b-47e8ee9b49d0.webp
END:VEVENT
BEGIN:VEVENT
DTSTART;TZID=Europe/Berlin:20250715T170000
DTEND;TZID=Europe/Berlin:20250715T190000
DTSTAMP:20260422T213318
CREATED:20251222T150319Z
LAST-MODIFIED:20251222T150515Z
UID:10000921-1752598800-1752606000@kfutd.de
SUMMARY:Politik im Hinterzimmer
DESCRIPTION:Du machst dir Gedanken um den Wandel in unserer Stadt? Du suchst Menschen zum Gespräch darüber? Wir treffen uns derzeit (zumeist) Dienstags im Hinterzimmer für einen gemeinsamen Austausch\, was uns in der Entwicklung unserer Stadt bewegt. Mal geht es um Bäume (so haben wir uns gefunden)\, mal ums Klima\, Soziales\, Mobilität\, Gesellschaft\, Gerechtigkeit und viele andere Themen. \n\n\n\nDu bist uns mit deinen Ideen\, Gedanken und Wünschen willkommen. Bring dich ein\, der Abend ist öffentlich und wir sind gespannt\, wer kommt und welche Anliegen auf den Tisch kommen. \n\n\n\nMal sind wir nur zu dritt\, mal sind wir zu zehnt. Das lässt sich nie so genau vorhersehen. Wir tauschen uns aus\, sehen\, was jede:r mitbringt. Oft sind es Themen der KfUTD (Konferenz für Urban Transformation Design). Es trifft sich ebenfalls regelmässig die Ortsgruppe Offenburg des FUSS e.V. und wir arbeiten an einer Ortsgruppe des VCD. \n\n\n\nWir treffen uns im Hinterzimmer des Scoutladen / Jurtenland in der Weingartenstraße 33. Oder bei schönen Wetter dahinter im Garten. Wer mag bringt etwas Fingerfood oder etwas zum Trinken mit. \n\n\n\nWir treffen uns regelmässig gegen 17h bis etwa 19 Uhr. \n\n\n\nAuf unserer Veranstaltungsseite informieren wir\, falls ein Termin ausnahmsweise einmal nicht stattfinden kann oder verschoben wird. Dort nennen wir auch Themen\, falls diese für die kommenden Termins schon festgelegt sind.
URL:https://kfutd.de/event/politik-im-hinterzimmer-6/2025-07-15/
LOCATION:Weingartenstraße 33\, Weingartenstraße 33\, Offenburg\, 77654\, Germany
CATEGORIES:Veranstaltungen für Urbane Transformation,Eigene Veranstaltungen,Politik im Hinterzimmer
ATTACH;FMTTYPE=image/png:https://kfutd.de/wp-content/uploads/2025/02/ChatGPT-Image-22.-Dez.-2025-16_02_25.png
END:VEVENT
BEGIN:VEVENT
DTSTART;TZID=Europe/Berlin:20250717T150000
DTEND;TZID=Europe/Berlin:20250717T170000
DTSTAMP:20260422T213318
CREATED:20250618T092800Z
LAST-MODIFIED:20250618T093009Z
UID:10000714-1752764400-1752771600@kfutd.de
SUMMARY:Spielraum Beats – Kinderdisco trifft Stadtwandel!
DESCRIPTION:Einladung zur Aktion am Spielplatz in der Weingartenstraße \n\n\n\nTanzende Kinder\, lachende Eltern\, Musik im öffentlichen Raum – und klare Forderungen für eine gerechtere Stadt.Mit „Spielraum Beats“ laden wir euch ein zu einer besonderen Kinderdisco mitten in Offenburg. Zwischen Rutsche und Wippe\, Schattenbaum und Sandkasten entsteht für zwei Stunden ein Ort\, an dem Zukunft sichtbar wird: fröhlich\, laut\, partizipativ – und politisch. \n\n\n\n📅 Donnerstag\, 17. Juli 2025🕒 15:00–17:00 Uhr📍 Spielplatz am Platz der Verfassungsfreunde \n\n\n\n💬 Was war – und was fehlt:\n\n\n\nIn den letzten beiden Einwohnerversammlungen vor Ort wurde klar:Der Spielplatz wird geliebt – aber er braucht dringend mehr! \n\n\n\n🟢 Schatten für heiße Tage🔵 Wasserspiele\, die zum Verweilen und Erfrischen einladen🟣 Toiletten – auch für Hundebesitzer:innen🟡 Sportgeräte für Groß und Klein🟠 Trinkbrunnen und Ladepunkte für E-Kleinfahrzeuge \n\n\n\nDiese Wünsche kamen nicht aus dem Rathaus\, sondern von den Menschen\, die hier leben\, spielen und sich engagieren. Und sie sind nicht nur berechtigt – sie sind machbar. \n\n\n\n🎧 Warum eine Kinderdisco?\n\n\n\nWeil Veränderung nicht still ist.Weil Kinder ein Recht auf Mitgestaltung haben.Weil öffentlicher Raum mehr als Verkehrsfläche ist.Und weil wir zeigen wollen\, wie Stadt auch sein kann: bunt\, lebendig\, gerecht. \n\n\n\n🙌 Kommt vorbei – mit Kindern\, Ideen\, Picknickdecken und Tanzlust!\n\n\n\nOb ihr nur eine halbe Stunde bleibt oder zwei Stunden mit uns feiert:Eure Anwesenheit macht den Unterschied. Denn Stadt verändert sich nicht von selbst – sie verändert sich\, wenn wir uns einmischen. \n\n\n\n🗯️ Veranstaltet von der Konferenz für Urban Transformation DesignIn Kooperation mit engagierten Nachbar:innen\, Kindern – und einer großen Portion Beat.
URL:https://kfutd.de/event/spielraum-beats-kinderdisco-trifft-stadtwandel/
ATTACH;FMTTYPE=image/webp:https://kfutd.de/wp-content/uploads/2025/06/stadtraumbeats-scaled.webp
END:VEVENT
END:VCALENDAR