BEGIN:VCALENDAR
VERSION:2.0
PRODID:-//Konferenz für Urban Transformation Design - ECPv6.15.20//NONSGML v1.0//EN
CALSCALE:GREGORIAN
METHOD:PUBLISH
X-ORIGINAL-URL:https://kfutd.de
X-WR-CALDESC:Veranstaltungen für Konferenz für Urban Transformation Design
REFRESH-INTERVAL;VALUE=DURATION:PT1H
X-Robots-Tag:noindex
X-PUBLISHED-TTL:PT1H
BEGIN:VTIMEZONE
TZID:Europe/Berlin
BEGIN:DAYLIGHT
TZOFFSETFROM:+0100
TZOFFSETTO:+0200
TZNAME:CEST
DTSTART:20240331T010000
END:DAYLIGHT
BEGIN:STANDARD
TZOFFSETFROM:+0200
TZOFFSETTO:+0100
TZNAME:CET
DTSTART:20241027T010000
END:STANDARD
BEGIN:DAYLIGHT
TZOFFSETFROM:+0100
TZOFFSETTO:+0200
TZNAME:CEST
DTSTART:20250330T010000
END:DAYLIGHT
BEGIN:STANDARD
TZOFFSETFROM:+0200
TZOFFSETTO:+0100
TZNAME:CET
DTSTART:20251026T010000
END:STANDARD
BEGIN:DAYLIGHT
TZOFFSETFROM:+0100
TZOFFSETTO:+0200
TZNAME:CEST
DTSTART:20260329T010000
END:DAYLIGHT
BEGIN:STANDARD
TZOFFSETFROM:+0200
TZOFFSETTO:+0100
TZNAME:CET
DTSTART:20261025T010000
END:STANDARD
END:VTIMEZONE
BEGIN:VEVENT
DTSTART;TZID=Europe/Berlin:20250722T170000
DTEND;TZID=Europe/Berlin:20250722T190000
DTSTAMP:20260423T055559
CREATED:20250206T154032Z
LAST-MODIFIED:20251222T131959Z
UID:10000395-1753203600-1753210800@kfutd.de
SUMMARY:Politik im Hinterzimmer
DESCRIPTION:Du machst dir Gedanken um den Wandel in unserer Stadt? Du suchst Menschen zum Gespräch darüber? Wir treffen uns derzeit (zumeist) Dienstags im Hinterzimmer für einen gemeinsamen Austausch\, was uns in der Entwicklung unserer Stadt bewegt. Mal geht es um Bäume (so haben wir uns gefunden)\, mal ums Klima\, Soziales\, Mobilität\, Gesellschaft\, Gerechtigkeit und viele andere Themen. \n\n\n\nDu bist uns mit deinen Ideen\, Gedanken und Wünschen willkommen. Bring dich ein\, der Abend ist öffentlich und wir sind gespannt\, wer kommt und welche Anliegen auf den Tisch kommen. \n\n\n\nMal sind wir nur zu dritt\, mal sind wir zu zehnt. Das lässt sich nie so genau vorhersehen. Wir tauschen uns aus\, sehen\, was jede:r mitbringt. Oft sind es Themen der KfUTD (Konferenz für Urban Transformation Design). Es trifft sich ebenfalls regelmässig die Ortsgruppe Offenburg des FUSS e.V. und wir arbeiten an einer Ortsgruppe des VCD. \n\n\n\nWir treffen uns im Hinterzimmer des Scoutladen / Jurtenland in der Weingartenstraße 33. Oder bei schönen Wetter dahinter im Garten. Wer mag bringt etwas Fingerfood oder etwas zum Trinken mit. \n\n\n\nWir treffen uns regelmässig gegen 17h bis etwa 19 Uhr. \n\n\n\nAuf unserer Veranstaltungsseite informieren wir\, falls ein Termin ausnahmsweise einmal nicht stattfinden kann oder verschoben wird. Dort nennen wir auch Themen\, falls diese für die kommenden Termins schon festgelegt sind.
URL:https://kfutd.de/event/politik-im-hinterzimmer-3/2025-07-22/
LOCATION:Weingartenstraße 33\, Weingartenstraße 33\, Offenburg\, 77654\, Germany
CATEGORIES:Veranstaltungen für Urbane Transformation,Eigene Veranstaltungen,Politik im Hinterzimmer
ATTACH;FMTTYPE=image/webp:https://kfutd.de/wp-content/uploads/2025/01/scoutladen_politics_in_the_back_room_3_males_and_3_females_suns_cee4ccc0-58db-427f-958b-47e8ee9b49d0.webp
END:VEVENT
BEGIN:VEVENT
DTSTART;TZID=Europe/Berlin:20250722T170000
DTEND;TZID=Europe/Berlin:20250722T190000
DTSTAMP:20260423T055559
CREATED:20251222T150319Z
LAST-MODIFIED:20251222T150515Z
UID:10000922-1753203600-1753210800@kfutd.de
SUMMARY:Politik im Hinterzimmer
DESCRIPTION:Du machst dir Gedanken um den Wandel in unserer Stadt? Du suchst Menschen zum Gespräch darüber? Wir treffen uns derzeit (zumeist) Dienstags im Hinterzimmer für einen gemeinsamen Austausch\, was uns in der Entwicklung unserer Stadt bewegt. Mal geht es um Bäume (so haben wir uns gefunden)\, mal ums Klima\, Soziales\, Mobilität\, Gesellschaft\, Gerechtigkeit und viele andere Themen. \n\n\n\nDu bist uns mit deinen Ideen\, Gedanken und Wünschen willkommen. Bring dich ein\, der Abend ist öffentlich und wir sind gespannt\, wer kommt und welche Anliegen auf den Tisch kommen. \n\n\n\nMal sind wir nur zu dritt\, mal sind wir zu zehnt. Das lässt sich nie so genau vorhersehen. Wir tauschen uns aus\, sehen\, was jede:r mitbringt. Oft sind es Themen der KfUTD (Konferenz für Urban Transformation Design). Es trifft sich ebenfalls regelmässig die Ortsgruppe Offenburg des FUSS e.V. und wir arbeiten an einer Ortsgruppe des VCD. \n\n\n\nWir treffen uns im Hinterzimmer des Scoutladen / Jurtenland in der Weingartenstraße 33. Oder bei schönen Wetter dahinter im Garten. Wer mag bringt etwas Fingerfood oder etwas zum Trinken mit. \n\n\n\nWir treffen uns regelmässig gegen 17h bis etwa 19 Uhr. \n\n\n\nAuf unserer Veranstaltungsseite informieren wir\, falls ein Termin ausnahmsweise einmal nicht stattfinden kann oder verschoben wird. Dort nennen wir auch Themen\, falls diese für die kommenden Termins schon festgelegt sind.
URL:https://kfutd.de/event/politik-im-hinterzimmer-6/2025-07-22/
LOCATION:Weingartenstraße 33\, Weingartenstraße 33\, Offenburg\, 77654\, Germany
CATEGORIES:Veranstaltungen für Urbane Transformation,Eigene Veranstaltungen,Politik im Hinterzimmer
ATTACH;FMTTYPE=image/png:https://kfutd.de/wp-content/uploads/2025/02/ChatGPT-Image-22.-Dez.-2025-16_02_25.png
END:VEVENT
BEGIN:VEVENT
DTSTART;TZID=Europe/Berlin:20250723T201500
DTEND;TZID=Europe/Berlin:20250723T220000
DTSTAMP:20260423T055559
CREATED:20250707T154353Z
LAST-MODIFIED:20250707T154403Z
UID:10000716-1753301700-1753308000@kfutd.de
SUMMARY:Kakadu singt – Einladung zum Kneipenchor Offenburg!
DESCRIPTION:Hast du Lust\, gemeinsam mit anderen lauthals zu singen\, ein kühles Getränk zu genießen und den Abend mit guter Laune zu füllen? Dann bist du beim Kneipenchor Offenburg genau richtig! \n\n\n\nWir starten am Mittwoch\, 23. Juli 2025 um 20:15 Uhr im Hinterraum vom Kakadu.Ganz egal\, ob du Profi bist oder einfach nur unter der Dusche trällerst – bei uns zählt Spaß\, Gemeinschaft und die Freude am Singen! \n\n\n\nMotto: Komm vorbei und zwitscher einen mit uns!Wir freuen uns auf dich – jede Stimme zählt! \n\n\n\n\nWann? Mittwoch\, 23. Juli 2025\, 20:15 UhrWo? Hinterraum vom Kakadu (Offenburg)Wer? Alle\, die Lust auf einen geselligen Chorabend haben \n\n\n\n\nBring deine Freund:innen mit\, probier’s aus\, und werde Teil unseres Kakadu-Klangschwarms! 🦜🎶
URL:https://kfutd.de/event/kakadu-singt-einladung-zum-kneipenchor-offenburg/
CATEGORIES:Veranstaltungen für Urbane Transformation,Externe Veranstaltungen
ATTACH;FMTTYPE=image/webp:https://kfutd.de/wp-content/uploads/2025/07/2869871.webp
END:VEVENT
BEGIN:VEVENT
DTSTART;TZID=Europe/Berlin:20250725T180000
DTEND;TZID=Europe/Berlin:20250725T190000
DTSTAMP:20260423T055559
CREATED:20241125T194817Z
LAST-MODIFIED:20241125T195747Z
UID:10000049-1753466400-1753470000@kfutd.de
SUMMARY:Critical Mass
DESCRIPTION:Auf aufs Rad und mitradeln durch unser schönes Offenburg bei der Critical Mass jeden letzten Freitag im Monat.Treffpunkt: 18:00Uhr beim Historischen Rathaus in Offenburg \n\n\n\nZusammen sind wir für eine sicherere Fahrradinfrastruktur\, in der Radfahrende nicht einfach übersehen werden unterwegs. Eine Einkehr zum Austausch rund ums Rad danach ist geplant\, und zwar im EINmachglas am Marktplatz.
URL:https://kfutd.de/event/critical-mass-november-2024/2025-07-25/
CATEGORIES:Veranstaltungen für Urbane Transformation,Externe Veranstaltungen
ATTACH;FMTTYPE=image/webp:https://kfutd.de/wp-content/uploads/2024/11/jufafe-fahrraddemo-in-hamburg.webp
END:VEVENT
BEGIN:VEVENT
DTSTART;TZID=Europe/Berlin:20250726T100000
DTEND;TZID=Europe/Berlin:20250726T120000
DTSTAMP:20260423T055559
CREATED:20250723T065248Z
LAST-MODIFIED:20250723T065258Z
UID:10000717-1753524000-1753531200@kfutd.de
SUMMARY:Der begehbare Stadtplan kommt vors Rathaus
DESCRIPTION:📍 Ort: Vor dem Rathaus\, Hauptstraße 90\, Offenburg🗓️ Datum: Samstag\, 26. Juli 2025⏰ Zeit: 10:00–12:00 Uhr \n\n\n\nWir bringen unseren begehbaren Stadtplan vors Rathaus und laden Verwaltung\, Gemeinderat und Bürger:innen ein\, direkt vor Ort über die Zukunft unserer Stadt ins Gespräch zu kommen. Kommt vorbei\, beteiligt euch und bringt eure Ideen mit!
URL:https://kfutd.de/event/der-begehbare-stadtplan-kommt-vors-rathaus/
CATEGORIES:Veranstaltungen für Urbane Transformation,Eigene Veranstaltungen
ATTACH;FMTTYPE=image/webp:https://kfutd.de/wp-content/uploads/2025/07/PXL_20250510_134108243zuschnitt.webp
END:VEVENT
END:VCALENDAR